BEGIN:VCALENDAR
VERSION:2.0
PRODID:-//AIRO - ECPv6.15.11//NONSGML v1.0//EN
CALSCALE:GREGORIAN
METHOD:PUBLISH
X-ORIGINAL-URL:https://radioterapiaitalia.it
X-WR-CALDESC:Eventi per AIRO
REFRESH-INTERVAL;VALUE=DURATION:PT1H
X-Robots-Tag:noindex
X-PUBLISHED-TTL:PT1H
BEGIN:VTIMEZONE
TZID:Europe/Rome
BEGIN:DAYLIGHT
TZOFFSETFROM:+0100
TZOFFSETTO:+0200
TZNAME:CEST
DTSTART:20150329T010000
END:DAYLIGHT
BEGIN:STANDARD
TZOFFSETFROM:+0200
TZOFFSETTO:+0100
TZNAME:CET
DTSTART:20151025T010000
END:STANDARD
BEGIN:DAYLIGHT
TZOFFSETFROM:+0100
TZOFFSETTO:+0200
TZNAME:CEST
DTSTART:20160327T010000
END:DAYLIGHT
BEGIN:STANDARD
TZOFFSETFROM:+0200
TZOFFSETTO:+0100
TZNAME:CET
DTSTART:20161030T010000
END:STANDARD
BEGIN:DAYLIGHT
TZOFFSETFROM:+0100
TZOFFSETTO:+0200
TZNAME:CEST
DTSTART:20170326T010000
END:DAYLIGHT
BEGIN:STANDARD
TZOFFSETFROM:+0200
TZOFFSETTO:+0100
TZNAME:CET
DTSTART:20171029T010000
END:STANDARD
END:VTIMEZONE
BEGIN:VEVENT
DTSTART;TZID=Europe/Rome:20160930T080000
DTEND;TZID=Europe/Rome:20161002T170000
DTSTAMP:20260425T155050
CREATED:20160405T122647Z
LAST-MODIFIED:20160405T122647Z
UID:42327-1475222400-1475427600@radioterapiaitalia.it
SUMMARY:Congresso congiunto AIRO\, AIRB\, AIRO Giovani\, Rimini 30 settembre - 2 ottobre 2016
DESCRIPTION:Congresso Nazionale AIRO AIRB e AIRO giovani 2016 Rimini \nAIRO 2016 ABSTRACT Book
URL:https://radioterapiaitalia.it/event/congresso-nazionale-2016-2/
CATEGORIES:CORSI E CONGRESSI AIRO,Eventi societari
ATTACH;FMTTYPE=:
END:VEVENT
BEGIN:VEVENT
DTSTART;TZID=Europe/Rome:20160930T080000
DTEND;TZID=Europe/Rome:20161002T170000
DTSTAMP:20260425T155050
CREATED:20160405T122647Z
LAST-MODIFIED:20160405T122647Z
UID:939-1475222400-1475427600@radioterapiaitalia.it
SUMMARY:Congresso congiunto AIRO\, AIRB\, AIRO Giovani\, Rimini 30 settembre - 2 ottobre 2016
DESCRIPTION:Congresso Nazionale AIRO AIRB e AIRO giovani 2016 Rimini \nAIRO 2016 ABSTRACT Book
URL:https://radioterapiaitalia.it/event/congresso-nazionale-2016/
CATEGORIES:CORSI E CONGRESSI AIRO,Eventi societari
ATTACH;FMTTYPE=:
END:VEVENT
BEGIN:VEVENT
DTSTART;TZID=Europe/Rome:20160930T090000
DTEND;TZID=Europe/Rome:20160930T130000
DTSTAMP:20260425T155050
CREATED:20160927T222207Z
LAST-MODIFIED:20160927T222207Z
UID:42391-1475226000-1475240400@radioterapiaitalia.it
SUMMARY:2016 settembre 30 ODG CD AIRO Rimini
DESCRIPTION:odg-30-settembre-2016-1
URL:https://radioterapiaitalia.it/event/2016-settembre-30-odg-cd-airo-rimini-2/
CATEGORIES:Eventi societari
ATTACH;FMTTYPE=:
END:VEVENT
BEGIN:VEVENT
DTSTART;TZID=Europe/Rome:20160930T090000
DTEND;TZID=Europe/Rome:20160930T130000
DTSTAMP:20260425T155050
CREATED:20160927T222207Z
LAST-MODIFIED:20160927T222207Z
UID:6527-1475226000-1475240400@radioterapiaitalia.it
SUMMARY:2016 settembre 30 ODG CD AIRO Rimini
DESCRIPTION:odg-30-settembre-2016-1
URL:https://radioterapiaitalia.it/event/2016-settembre-30-odg-cd-airo-rimini/
CATEGORIES:Eventi societari
ATTACH;FMTTYPE=:
END:VEVENT
BEGIN:VEVENT
DTSTART;TZID=Europe/Rome:20160930T153000
DTEND;TZID=Europe/Rome:20160930T173000
DTSTAMP:20260425T155050
CREATED:20160925T001502Z
LAST-MODIFIED:20160925T001502Z
UID:42374-1475249400-1475256600@radioterapiaitalia.it
SUMMARY:2016 settembre 30 - Convocazione gruppo sistema nervoso
DESCRIPTION:Sede: Sala Del Ponte 2 – Congresso AIRO – Rimini Orari: 15.30 – 17:30 \n 
URL:https://radioterapiaitalia.it/event/2016-settembre-30-convocazione-gruppo-sistema-nervoso-2/
CATEGORIES:Eventi societari
END:VEVENT
BEGIN:VEVENT
DTSTART;TZID=Europe/Rome:20160930T153000
DTEND;TZID=Europe/Rome:20160930T173000
DTSTAMP:20260425T155050
CREATED:20160925T001502Z
LAST-MODIFIED:20160925T001502Z
UID:6402-1475249400-1475256600@radioterapiaitalia.it
SUMMARY:2016 settembre 30 - Convocazione gruppo sistema nervoso
DESCRIPTION:Sede: Sala Del Ponte 2 – Congresso AIRO – Rimini Orari: 15.30 – 17:30 \n 
URL:https://radioterapiaitalia.it/event/2016-settembre-30-convocazione-gruppo-sistema-nervoso/
CATEGORIES:Eventi societari
END:VEVENT
END:VCALENDAR