BEGIN:VCALENDAR
VERSION:2.0
PRODID:-//AIRO - ECPv6.15.11//NONSGML v1.0//EN
CALSCALE:GREGORIAN
METHOD:PUBLISH
X-WR-CALNAME:AIRO
X-ORIGINAL-URL:https://radioterapiaitalia.it
X-WR-CALDESC:Eventi per AIRO
REFRESH-INTERVAL;VALUE=DURATION:PT1H
X-Robots-Tag:noindex
X-PUBLISHED-TTL:PT1H
BEGIN:VTIMEZONE
TZID:Europe/Rome
BEGIN:DAYLIGHT
TZOFFSETFROM:+0100
TZOFFSETTO:+0200
TZNAME:CEST
DTSTART:20160327T010000
END:DAYLIGHT
BEGIN:STANDARD
TZOFFSETFROM:+0200
TZOFFSETTO:+0100
TZNAME:CET
DTSTART:20161030T010000
END:STANDARD
BEGIN:DAYLIGHT
TZOFFSETFROM:+0100
TZOFFSETTO:+0200
TZNAME:CEST
DTSTART:20170326T010000
END:DAYLIGHT
BEGIN:STANDARD
TZOFFSETFROM:+0200
TZOFFSETTO:+0100
TZNAME:CET
DTSTART:20171029T010000
END:STANDARD
BEGIN:DAYLIGHT
TZOFFSETFROM:+0100
TZOFFSETTO:+0200
TZNAME:CEST
DTSTART:20180325T010000
END:DAYLIGHT
BEGIN:STANDARD
TZOFFSETFROM:+0200
TZOFFSETTO:+0100
TZNAME:CET
DTSTART:20181028T010000
END:STANDARD
BEGIN:DAYLIGHT
TZOFFSETFROM:+0100
TZOFFSETTO:+0200
TZNAME:CEST
DTSTART:20190331T010000
END:DAYLIGHT
BEGIN:STANDARD
TZOFFSETFROM:+0200
TZOFFSETTO:+0100
TZNAME:CET
DTSTART:20191027T010000
END:STANDARD
END:VTIMEZONE
BEGIN:VEVENT
DTSTART;TZID=Europe/Rome:20170612T100000
DTEND;TZID=Europe/Rome:20170612T170000
DTSTAMP:20260425T154816
CREATED:20170612T104205Z
LAST-MODIFIED:20170612T104205Z
UID:42493-1497261600-1497286800@radioterapiaitalia.it
SUMMARY:AGENAS PER RETI ONCOLOGICHE
DESCRIPTION:DOTT. RUSSI\, PROF. MAGRINI E PROF PERGOLIZZI. \nMetodologia reti oncologiche
URL:https://radioterapiaitalia.it/event/agenas-reti-oncologiche-2/
CATEGORIES:Eventi societari
ATTACH;FMTTYPE=:
END:VEVENT
BEGIN:VEVENT
DTSTART;TZID=Europe/Rome:20170612T100000
DTEND;TZID=Europe/Rome:20170612T170000
DTSTAMP:20260425T154816
CREATED:20170612T104205Z
LAST-MODIFIED:20170612T104205Z
UID:12680-1497261600-1497286800@radioterapiaitalia.it
SUMMARY:AGENAS PER RETI ONCOLOGICHE
DESCRIPTION:DOTT. RUSSI\, PROF. MAGRINI E PROF PERGOLIZZI. \nMetodologia reti oncologiche
URL:https://radioterapiaitalia.it/event/agenas-reti-oncologiche/
CATEGORIES:Eventi societari
ATTACH;FMTTYPE=:
END:VEVENT
BEGIN:VEVENT
DTSTART;TZID=Europe/Rome:20170619T080000
DTEND;TZID=Europe/Rome:20170619T170000
DTSTAMP:20260425T154816
CREATED:20161128T221600Z
LAST-MODIFIED:20161128T221600Z
UID:6990-1497859200-1497891600@radioterapiaitalia.it
SUMMARY:2017 giugno 19 CD nazionale
DESCRIPTION:
URL:https://radioterapiaitalia.it/event/2017-giugno-19-cd-nazionale/
CATEGORIES:Eventi societari
END:VEVENT
BEGIN:VEVENT
DTSTART;TZID=Europe/Rome:20170619T080000
DTEND;TZID=Europe/Rome:20170619T170000
DTSTAMP:20260425T154816
CREATED:20161128T221600Z
LAST-MODIFIED:20161128T221600Z
UID:42407-1497859200-1497891600@radioterapiaitalia.it
SUMMARY:2017 giugno 19 CD nazionale
DESCRIPTION:
URL:https://radioterapiaitalia.it/event/2017-giugno-19-cd-nazionale-2/
CATEGORIES:Eventi societari
END:VEVENT
BEGIN:VEVENT
DTSTART;TZID=Europe/Rome:20170620T080000
DTEND;TZID=Europe/Rome:20170620T170000
DTSTAMP:20260425T154816
CREATED:20170620T080341Z
LAST-MODIFIED:20170620T080341Z
UID:42494-1497945600-1497978000@radioterapiaitalia.it
SUMMARY:Legge Gelli Convocazione ISS prof. W. Ricciardi e Del Favero
DESCRIPTION:richieste modifiche all’art. 5 della legge Gelli n. 24 /2017 \nPresenti (Magrini\, Santoni\, Donato\, D’Angelillo)
URL:https://radioterapiaitalia.it/event/legge-gelli-convocazione-iss-prof-w-ricciardi-del-favero-2/
CATEGORIES:Eventi societari
ATTACH;FMTTYPE=:
END:VEVENT
BEGIN:VEVENT
DTSTART;TZID=Europe/Rome:20170620T080000
DTEND;TZID=Europe/Rome:20170620T170000
DTSTAMP:20260425T154816
CREATED:20170620T080341Z
LAST-MODIFIED:20170620T080341Z
UID:12682-1497945600-1497978000@radioterapiaitalia.it
SUMMARY:Legge Gelli Convocazione ISS prof. W. Ricciardi e Del Favero
DESCRIPTION:richieste modifiche all’art. 5 della legge Gelli n. 24 /2017 \nPresenti (Magrini\, Santoni\, Donato\, D’Angelillo)
URL:https://radioterapiaitalia.it/event/legge-gelli-convocazione-iss-prof-w-ricciardi-del-favero/
CATEGORIES:Eventi societari
ATTACH;FMTTYPE=:
END:VEVENT
BEGIN:VEVENT
DTSTART;TZID=Europe/Rome:20170918T080000
DTEND;TZID=Europe/Rome:20170918T170000
DTSTAMP:20260425T154816
CREATED:20161128T221724Z
LAST-MODIFIED:20161128T221724Z
UID:42408-1505721600-1505754000@radioterapiaitalia.it
SUMMARY:2017 settembre 18 CD nazionle
DESCRIPTION:
URL:https://radioterapiaitalia.it/event/2017-settembre-18-cd-nazionle-2/
CATEGORIES:Eventi societari
END:VEVENT
BEGIN:VEVENT
DTSTART;TZID=Europe/Rome:20170918T080000
DTEND;TZID=Europe/Rome:20170918T170000
DTSTAMP:20260425T154816
CREATED:20161128T221724Z
LAST-MODIFIED:20161128T221724Z
UID:6992-1505721600-1505754000@radioterapiaitalia.it
SUMMARY:2017 settembre 18 CD nazionle
DESCRIPTION:
URL:https://radioterapiaitalia.it/event/2017-settembre-18-cd-nazionle/
CATEGORIES:Eventi societari
END:VEVENT
BEGIN:VEVENT
DTSTART;TZID=Europe/Rome:20171006T080000
DTEND;TZID=Europe/Rome:20171104T170000
DTSTAMP:20260425T154816
CREATED:20171006T212411Z
LAST-MODIFIED:20171006T212411Z
UID:42503-1507276800-1509814800@radioterapiaitalia.it
SUMMARY:UNDER 35 - Progetti formativi PER SOCI AIRO (10.000€ TOTALE). (Scad. domanda  4/11/2017). Per saperne di più....
DESCRIPTION:  \n\n\n\n \n\n\n\n Bando AIRO FORMAZIONE\n\n\n\n 
URL:https://radioterapiaitalia.it/event/under-35-progetti-formativi-soci-airo-10-000e-totale-2/
CATEGORIES:Eventi societari
ATTACH;FMTTYPE=:
END:VEVENT
BEGIN:VEVENT
DTSTART;TZID=Europe/Rome:20171006T080000
DTEND;TZID=Europe/Rome:20171104T170000
DTSTAMP:20260425T154816
CREATED:20171006T212411Z
LAST-MODIFIED:20171006T212411Z
UID:13323-1507276800-1509814800@radioterapiaitalia.it
SUMMARY:UNDER 35 - Progetti formativi PER SOCI AIRO (10.000€ TOTALE). (Scad. domanda  4/11/2017). Per saperne di più....
DESCRIPTION:  \n\n\n\n \n\n\n\n Bando AIRO FORMAZIONE\n\n\n\n 
URL:https://radioterapiaitalia.it/event/under-35-progetti-formativi-soci-airo-10-000e-totale/
CATEGORIES:Eventi societari
ATTACH;FMTTYPE=:
END:VEVENT
BEGIN:VEVENT
DTSTART;TZID=Europe/Rome:20171006T080000
DTEND;TZID=Europe/Rome:20171112T170000
DTSTAMP:20260425T154816
CREATED:20171006T214044Z
LAST-MODIFIED:20171006T214044Z
UID:42504-1507276800-1510506000@radioterapiaitalia.it
SUMMARY:ELEZIONI PRESIDENTE ELETTO E CONSIGLIERI .....-->
DESCRIPTION:Per Saperne di più\n\n\n\n\n\n\n 
URL:https://radioterapiaitalia.it/event/elezioni-presidente-eletto-consiglieri-2/
CATEGORIES:Eventi societari
ATTACH;FMTTYPE=:
END:VEVENT
BEGIN:VEVENT
DTSTART;TZID=Europe/Rome:20171006T080000
DTEND;TZID=Europe/Rome:20171112T170000
DTSTAMP:20260425T154816
CREATED:20171006T214044Z
LAST-MODIFIED:20171006T214044Z
UID:13331-1507276800-1510506000@radioterapiaitalia.it
SUMMARY:ELEZIONI PRESIDENTE ELETTO E CONSIGLIERI .....-->
DESCRIPTION:Per Saperne di più\n\n\n\n\n\n\n 
URL:https://radioterapiaitalia.it/event/elezioni-presidente-eletto-consiglieri/
CATEGORIES:Eventi societari
ATTACH;FMTTYPE=:
END:VEVENT
BEGIN:VEVENT
DTSTART;TZID=Europe/Rome:20171030T103000
DTEND;TZID=Europe/Rome:20171030T120000
DTSTAMP:20260425T154816
CREATED:20171006T230907Z
LAST-MODIFIED:20171006T230907Z
UID:42505-1509359400-1509364800@radioterapiaitalia.it
SUMMARY:30/10/2017 Gruppo di Studio Ginecologico e Brachiterapico al Cardello. Tutti gli interessati sono invitati ad intervenire
DESCRIPTION:Nelle varie ed eventuali dell’assemblea del 30/10/2017 (dalle ore 10\,30 alle ore 12\,00) si valuteranno modalità e tempistiche di istituzione del gruppo di studio di ginecologia e rapporti con il gruppo di studio di brachiterapia. \nGli interessati sono invitati ad intervenire.
URL:https://radioterapiaitalia.it/event/gruppo-studio-genicologico-brachiterapico-2/
CATEGORIES:Eventi societari
ATTACH;FMTTYPE=:
END:VEVENT
BEGIN:VEVENT
DTSTART;TZID=Europe/Rome:20171030T103000
DTEND;TZID=Europe/Rome:20171030T120000
DTSTAMP:20260425T154816
CREATED:20171006T230907Z
LAST-MODIFIED:20171006T230907Z
UID:13338-1509359400-1509364800@radioterapiaitalia.it
SUMMARY:30/10/2017 Gruppo di Studio Ginecologico e Brachiterapico al Cardello. Tutti gli interessati sono invitati ad intervenire
DESCRIPTION:Nelle varie ed eventuali dell’assemblea del 30/10/2017 (dalle ore 10\,30 alle ore 12\,00) si valuteranno modalità e tempistiche di istituzione del gruppo di studio di ginecologia e rapporti con il gruppo di studio di brachiterapia. \nGli interessati sono invitati ad intervenire.
URL:https://radioterapiaitalia.it/event/gruppo-studio-genicologico-brachiterapico/
CATEGORIES:Eventi societari
ATTACH;FMTTYPE=:
END:VEVENT
BEGIN:VEVENT
DTSTART;TZID=Europe/Rome:20171111T080000
DTEND;TZID=Europe/Rome:20171111T170000
DTSTAMP:20260425T154816
CREATED:20161128T221855Z
LAST-MODIFIED:20161128T221855Z
UID:42409-1510387200-1510419600@radioterapiaitalia.it
SUMMARY:2017 novembre 11 CD nazionale (all'interno del congresso nazionale)
DESCRIPTION:
URL:https://radioterapiaitalia.it/event/2017-novembre-11-cd-nazionale-allinterno-del-congresso-nazionale-2/
CATEGORIES:Eventi societari
END:VEVENT
BEGIN:VEVENT
DTSTART;TZID=Europe/Rome:20171111T080000
DTEND;TZID=Europe/Rome:20171111T170000
DTSTAMP:20260425T154816
CREATED:20161128T221855Z
LAST-MODIFIED:20161128T221855Z
UID:6994-1510387200-1510419600@radioterapiaitalia.it
SUMMARY:2017 novembre 11 CD nazionale (all'interno del congresso nazionale)
DESCRIPTION:
URL:https://radioterapiaitalia.it/event/2017-novembre-11-cd-nazionale-allinterno-del-congresso-nazionale/
CATEGORIES:Eventi societari
END:VEVENT
BEGIN:VEVENT
DTSTART;TZID=Europe/Rome:20180115T100000
DTEND;TZID=Europe/Rome:20180115T153000
DTSTAMP:20260425T154816
CREATED:20171227T134234Z
LAST-MODIFIED:20171227T134234Z
UID:42524-1516010400-1516030200@radioterapiaitalia.it
SUMMARY:2018 gennaio 15 - Cyberknife e Stereotassi: esperienze a confronto. Chieti
DESCRIPTION:Locandina \nProgramma Scientifico \nScheda di iscrizione
URL:https://radioterapiaitalia.it/event/2018-gennaio-15-cyberknife-stereotassi-esperienze-confronto-chieti-2/
CATEGORIES:Eventi societari
ATTACH;FMTTYPE=:
END:VEVENT
BEGIN:VEVENT
DTSTART;TZID=Europe/Rome:20180115T100000
DTEND;TZID=Europe/Rome:20180115T153000
DTSTAMP:20260425T154816
CREATED:20171227T134234Z
LAST-MODIFIED:20171227T134234Z
UID:14237-1516010400-1516030200@radioterapiaitalia.it
SUMMARY:2018 gennaio 15 - Cyberknife e Stereotassi: esperienze a confronto. Chieti
DESCRIPTION:Locandina \nProgramma Scientifico \nScheda di iscrizione
URL:https://radioterapiaitalia.it/event/2018-gennaio-15-cyberknife-stereotassi-esperienze-confronto-chieti/
CATEGORIES:Eventi societari
ATTACH;FMTTYPE=:
END:VEVENT
BEGIN:VEVENT
DTSTART;TZID=Europe/Rome:20180125T080000
DTEND;TZID=Europe/Rome:20180130T170000
DTSTAMP:20260425T154816
CREATED:20180125T202637Z
LAST-MODIFIED:20180125T202637Z
UID:42534-1516867200-1517331600@radioterapiaitalia.it
SUMMARY:AIRO piange la scomparsa della cara collega Ida Milanesi ed è vicina al dolore della famiglia
DESCRIPTION:La nostra società piange la scomparsa della collega Ida Milanesi ed è vicina al dolore della famiglia.
URL:https://radioterapiaitalia.it/event/airo-piange-la-scomparsa-della-cara-collega-ida-milanesi-2/
CATEGORIES:Eventi societari
ATTACH;FMTTYPE=:
END:VEVENT
BEGIN:VEVENT
DTSTART;TZID=Europe/Rome:20180125T080000
DTEND;TZID=Europe/Rome:20180130T170000
DTSTAMP:20260425T154816
CREATED:20180125T202637Z
LAST-MODIFIED:20180125T202637Z
UID:14438-1516867200-1517331600@radioterapiaitalia.it
SUMMARY:AIRO piange la scomparsa della cara collega Ida Milanesi ed è vicina al dolore della famiglia
DESCRIPTION:La nostra società piange la scomparsa della collega Ida Milanesi ed è vicina al dolore della famiglia.
URL:https://radioterapiaitalia.it/event/airo-piange-la-scomparsa-della-cara-collega-ida-milanesi/
CATEGORIES:Eventi societari
ATTACH;FMTTYPE=:
END:VEVENT
END:VCALENDAR