BEGIN:VCALENDAR
VERSION:2.0
PRODID:-//AIRO - ECPv6.15.11//NONSGML v1.0//EN
CALSCALE:GREGORIAN
METHOD:PUBLISH
X-WR-CALNAME:AIRO
X-ORIGINAL-URL:https://radioterapiaitalia.it
X-WR-CALDESC:Eventi per AIRO
REFRESH-INTERVAL;VALUE=DURATION:PT1H
X-Robots-Tag:noindex
X-PUBLISHED-TTL:PT1H
BEGIN:VTIMEZONE
TZID:Europe/Rome
BEGIN:DAYLIGHT
TZOFFSETFROM:+0100
TZOFFSETTO:+0200
TZNAME:CEST
DTSTART:20150329T010000
END:DAYLIGHT
BEGIN:STANDARD
TZOFFSETFROM:+0200
TZOFFSETTO:+0100
TZNAME:CET
DTSTART:20151025T010000
END:STANDARD
BEGIN:DAYLIGHT
TZOFFSETFROM:+0100
TZOFFSETTO:+0200
TZNAME:CEST
DTSTART:20160327T010000
END:DAYLIGHT
BEGIN:STANDARD
TZOFFSETFROM:+0200
TZOFFSETTO:+0100
TZNAME:CET
DTSTART:20161030T010000
END:STANDARD
BEGIN:DAYLIGHT
TZOFFSETFROM:+0100
TZOFFSETTO:+0200
TZNAME:CEST
DTSTART:20170326T010000
END:DAYLIGHT
BEGIN:STANDARD
TZOFFSETFROM:+0200
TZOFFSETTO:+0100
TZNAME:CET
DTSTART:20171029T010000
END:STANDARD
BEGIN:DAYLIGHT
TZOFFSETFROM:+0100
TZOFFSETTO:+0200
TZNAME:CEST
DTSTART:20180325T010000
END:DAYLIGHT
BEGIN:STANDARD
TZOFFSETFROM:+0200
TZOFFSETTO:+0100
TZNAME:CET
DTSTART:20181028T010000
END:STANDARD
END:VTIMEZONE
BEGIN:VEVENT
DTSTART;TZID=Europe/Rome:20160930T080000
DTEND;TZID=Europe/Rome:20161002T170000
DTSTAMP:20260425T154922
CREATED:20160405T122647Z
LAST-MODIFIED:20160405T122647Z
UID:42327-1475222400-1475427600@radioterapiaitalia.it
SUMMARY:Congresso congiunto AIRO\, AIRB\, AIRO Giovani\, Rimini 30 settembre - 2 ottobre 2016
DESCRIPTION:Congresso Nazionale AIRO AIRB e AIRO giovani 2016 Rimini \nAIRO 2016 ABSTRACT Book
URL:https://radioterapiaitalia.it/event/congresso-nazionale-2016-2/
CATEGORIES:CORSI E CONGRESSI AIRO,Eventi societari
ATTACH;FMTTYPE=:
END:VEVENT
BEGIN:VEVENT
DTSTART;TZID=Europe/Rome:20160930T080000
DTEND;TZID=Europe/Rome:20161002T170000
DTSTAMP:20260425T154922
CREATED:20160405T122647Z
LAST-MODIFIED:20160405T122647Z
UID:939-1475222400-1475427600@radioterapiaitalia.it
SUMMARY:Congresso congiunto AIRO\, AIRB\, AIRO Giovani\, Rimini 30 settembre - 2 ottobre 2016
DESCRIPTION:Congresso Nazionale AIRO AIRB e AIRO giovani 2016 Rimini \nAIRO 2016 ABSTRACT Book
URL:https://radioterapiaitalia.it/event/congresso-nazionale-2016/
CATEGORIES:CORSI E CONGRESSI AIRO,Eventi societari
ATTACH;FMTTYPE=:
END:VEVENT
BEGIN:VEVENT
DTSTART;TZID=Europe/Rome:20161001T170000
DTEND;TZID=Europe/Rome:20161001T180000
DTSTAMP:20260425T154922
CREATED:20160821T190228Z
LAST-MODIFIED:20160821T190228Z
UID:42367-1475341200-1475344800@radioterapiaitalia.it
SUMMARY:CONVOCAZIONE ASSEMBLEA ORDINARIA DEI SOCI AIRO 2016
DESCRIPTION:
URL:https://radioterapiaitalia.it/event/convocazione-assemblea-ordinaria-dei-soci-airo-2016-2/
CATEGORIES:Eventi societari
END:VEVENT
BEGIN:VEVENT
DTSTART;TZID=Europe/Rome:20161001T170000
DTEND;TZID=Europe/Rome:20161001T180000
DTSTAMP:20260425T154922
CREATED:20160821T190228Z
LAST-MODIFIED:20160821T190228Z
UID:4493-1475341200-1475344800@radioterapiaitalia.it
SUMMARY:CONVOCAZIONE ASSEMBLEA ORDINARIA DEI SOCI AIRO 2016
DESCRIPTION:
URL:https://radioterapiaitalia.it/event/convocazione-assemblea-ordinaria-dei-soci-airo-2016/
CATEGORIES:Eventi societari
END:VEVENT
BEGIN:VEVENT
DTSTART;TZID=Europe/Rome:20161121T100000
DTEND;TZID=Europe/Rome:20161121T170000
DTSTAMP:20260425T154922
CREATED:20161012T215818Z
LAST-MODIFIED:20161012T215818Z
UID:42399-1479722400-1479747600@radioterapiaitalia.it
SUMMARY:2016 Novembre 21 CD AIRO Nazionale Roma
DESCRIPTION:  \nodg-21-novembre-2016
URL:https://radioterapiaitalia.it/event/2016-novembre-21-cd-airo-nazionale-roma-2/
CATEGORIES:Eventi societari
END:VEVENT
BEGIN:VEVENT
DTSTART;TZID=Europe/Rome:20161121T100000
DTEND;TZID=Europe/Rome:20161121T170000
DTSTAMP:20260425T154922
CREATED:20161012T215818Z
LAST-MODIFIED:20161012T215818Z
UID:6764-1479722400-1479747600@radioterapiaitalia.it
SUMMARY:2016 Novembre 21 CD AIRO Nazionale Roma
DESCRIPTION:  \nodg-21-novembre-2016
URL:https://radioterapiaitalia.it/event/2016-novembre-21-cd-airo-nazionale-roma/
CATEGORIES:Eventi societari
END:VEVENT
BEGIN:VEVENT
DTSTART;TZID=Europe/Rome:20161128T080000
DTEND;TZID=Europe/Rome:20161128T170000
DTSTAMP:20260425T154922
CREATED:20170213T110029Z
LAST-MODIFIED:20170213T110029Z
UID:6982-1480320000-1480352400@radioterapiaitalia.it
SUMMARY:2017 febbraio 13 CD nazionale con GdS e G.R.
DESCRIPTION:
URL:https://radioterapiaitalia.it/event/2017-febbraio-13-gds-g-r/
CATEGORIES:Eventi societari
END:VEVENT
BEGIN:VEVENT
DTSTART;TZID=Europe/Rome:20161128T080000
DTEND;TZID=Europe/Rome:20161128T170000
DTSTAMP:20260425T154922
CREATED:20170213T110029Z
LAST-MODIFIED:20170213T110029Z
UID:42463-1480320000-1480352400@radioterapiaitalia.it
SUMMARY:2017 febbraio 13 CD nazionale con GdS e G.R.
DESCRIPTION:
URL:https://radioterapiaitalia.it/event/2017-febbraio-13-gds-g-r-2/
CATEGORIES:Eventi societari
END:VEVENT
BEGIN:VEVENT
DTSTART;TZID=Europe/Rome:20161215T080000
DTEND;TZID=Europe/Rome:20161215T170000
DTSTAMP:20260425T154922
CREATED:20161208T120419Z
LAST-MODIFIED:20161208T120419Z
UID:7201-1481788800-1481821200@radioterapiaitalia.it
SUMMARY:2016 dicembre 15 Incontro AIRO con dispositivi medici
DESCRIPTION:  \n\n\n\nstakeholders-dispositivi-3\n\n\nlettera-dispositivi-carta-intestata-smm-3-1\n\n\nAttività Scientifica AIRO 2017 Prof. Corvò\n\n\nAttività Scientifica AIRO 2017
URL:https://radioterapiaitalia.it/event/2016-dicembre-15-incontro-airo-dispositivi-medici/
CATEGORIES:Eventi societari
END:VEVENT
BEGIN:VEVENT
DTSTART;TZID=Europe/Rome:20161215T080000
DTEND;TZID=Europe/Rome:20161215T170000
DTSTAMP:20260425T154922
CREATED:20161208T120419Z
LAST-MODIFIED:20161208T120419Z
UID:42424-1481788800-1481821200@radioterapiaitalia.it
SUMMARY:2016 dicembre 15 Incontro AIRO con dispositivi medici
DESCRIPTION:  \n\n\n\nstakeholders-dispositivi-3\n\n\nlettera-dispositivi-carta-intestata-smm-3-1\n\n\nAttività Scientifica AIRO 2017 Prof. Corvò\n\n\nAttività Scientifica AIRO 2017
URL:https://radioterapiaitalia.it/event/2016-dicembre-15-incontro-airo-dispositivi-medici-2/
CATEGORIES:Eventi societari
END:VEVENT
BEGIN:VEVENT
DTSTART;TZID=Europe/Rome:20161219T120000
DTEND;TZID=Europe/Rome:20161219T170000
DTSTAMP:20260425T154922
CREATED:20161211T132742Z
LAST-MODIFIED:20161211T132742Z
UID:42427-1482148800-1482166800@radioterapiaitalia.it
SUMMARY:2016 Dicembre 19 riunione gruppo di studio polmone
DESCRIPTION:Istituto Radioterapia AOU Careggi pad. 11 primo piano. \nODG: \n1)passaggio di consegne con direttivo precedente e resoconto attività che proseguiranno nel biennio successivo \n2)corsi itineranti SCLC \n3)proposta survey NSCLC stadio III \n4)altre proposte di studi e/o collaborazioni \n5)varie ed eventuali.
URL:https://radioterapiaitalia.it/event/2016-dicembre-19-riunione-gruppo-studio-polmone-2/
CATEGORIES:Eventi societari
END:VEVENT
BEGIN:VEVENT
DTSTART;TZID=Europe/Rome:20161219T120000
DTEND;TZID=Europe/Rome:20161219T170000
DTSTAMP:20260425T154922
CREATED:20161211T132742Z
LAST-MODIFIED:20161211T132742Z
UID:7245-1482148800-1482166800@radioterapiaitalia.it
SUMMARY:2016 Dicembre 19 riunione gruppo di studio polmone
DESCRIPTION:Istituto Radioterapia AOU Careggi pad. 11 primo piano. \nODG: \n1)passaggio di consegne con direttivo precedente e resoconto attività che proseguiranno nel biennio successivo \n2)corsi itineranti SCLC \n3)proposta survey NSCLC stadio III \n4)altre proposte di studi e/o collaborazioni \n5)varie ed eventuali.
URL:https://radioterapiaitalia.it/event/2016-dicembre-19-riunione-gruppo-studio-polmone/
CATEGORIES:Eventi societari
END:VEVENT
BEGIN:VEVENT
DTSTART;TZID=Europe/Rome:20161220T080000
DTEND;TZID=Europe/Rome:20170103T170000
DTSTAMP:20260425T154922
CREATED:20161227T153005Z
LAST-MODIFIED:20161227T153005Z
UID:7473-1482220800-1483462800@radioterapiaitalia.it
SUMMARY:AVVISO PER ISCRIZIONE E RINNOVO ASSICURAZIONE
DESCRIPTION:Quest’anno tutti i soci per rinnovare l’iscrizione devono accedere al menù DIVENTA SOCIO.\n\n\nInoltre\, La “Risk Solution” nell’inviare i propri auguri si scusa per il disagio dovuto alla implementazione della nuova modalità di iscrizione informatica all’assicurazione proposta\, ma rassicura i vecchi sottoscrittoripuoi che potranno effettuare l’adesione fino al 01/03/2017 mantenendo la copertura attiva dal 01.01.2017. (Vedi allegato) \n\n\nF.to  Luigi Cobror\n\n\nluigi.cobror@rsbroker.it
URL:https://radioterapiaitalia.it/event/avviso-iscrizione-rinnovo-assicurazione/
CATEGORIES:Eventi societari
ATTACH;FMTTYPE=:
END:VEVENT
BEGIN:VEVENT
DTSTART;TZID=Europe/Rome:20161220T080000
DTEND;TZID=Europe/Rome:20170103T170000
DTSTAMP:20260425T154922
CREATED:20161227T153005Z
LAST-MODIFIED:20161227T153005Z
UID:42446-1482220800-1483462800@radioterapiaitalia.it
SUMMARY:AVVISO PER ISCRIZIONE E RINNOVO ASSICURAZIONE
DESCRIPTION:Quest’anno tutti i soci per rinnovare l’iscrizione devono accedere al menù DIVENTA SOCIO.\n\n\nInoltre\, La “Risk Solution” nell’inviare i propri auguri si scusa per il disagio dovuto alla implementazione della nuova modalità di iscrizione informatica all’assicurazione proposta\, ma rassicura i vecchi sottoscrittoripuoi che potranno effettuare l’adesione fino al 01/03/2017 mantenendo la copertura attiva dal 01.01.2017. (Vedi allegato) \n\n\nF.to  Luigi Cobror\n\n\nluigi.cobror@rsbroker.it
URL:https://radioterapiaitalia.it/event/avviso-iscrizione-rinnovo-assicurazione-2/
CATEGORIES:Eventi societari
ATTACH;FMTTYPE=:
END:VEVENT
BEGIN:VEVENT
DTSTART;TZID=Europe/Rome:20170126T110000
DTEND;TZID=Europe/Rome:20170126T170000
DTSTAMP:20260425T154922
CREATED:20161128T220451Z
LAST-MODIFIED:20161128T220451Z
UID:6979-1485428400-1485450000@radioterapiaitalia.it
SUMMARY:2017 gennaio 26 CD Nazionale
DESCRIPTION:  \n\n\n\nOdG 26 gennaio 2017\n\n\nCodice_etico \nCodice_etico
URL:https://radioterapiaitalia.it/event/2017-gennaio-26-cd-nazionale/
CATEGORIES:Eventi societari
END:VEVENT
BEGIN:VEVENT
DTSTART;TZID=Europe/Rome:20170126T110000
DTEND;TZID=Europe/Rome:20170126T170000
DTSTAMP:20260425T154922
CREATED:20161128T220451Z
LAST-MODIFIED:20161128T220451Z
UID:42404-1485428400-1485450000@radioterapiaitalia.it
SUMMARY:2017 gennaio 26 CD Nazionale
DESCRIPTION:  \n\n\n\nOdG 26 gennaio 2017\n\n\nCodice_etico \nCodice_etico
URL:https://radioterapiaitalia.it/event/2017-gennaio-26-cd-nazionale-2/
CATEGORIES:Eventi societari
END:VEVENT
BEGIN:VEVENT
DTSTART;TZID=Europe/Rome:20170130T080000
DTEND;TZID=Europe/Rome:20170130T170000
DTSTAMP:20260425T154922
CREATED:20161208T121700Z
LAST-MODIFIED:20161208T121700Z
UID:7205-1485763200-1485795600@radioterapiaitalia.it
SUMMARY:2017 GENNAIO 30 Incontro farmaceutici
DESCRIPTION:Contenuto protetto.
URL:https://radioterapiaitalia.it/event/2017-gennaio-30-incotnro-farmaceutici/
CATEGORIES:Eventi societari
END:VEVENT
BEGIN:VEVENT
DTSTART;TZID=Europe/Rome:20170130T080000
DTEND;TZID=Europe/Rome:20170130T170000
DTSTAMP:20260425T154922
CREATED:20161208T121700Z
LAST-MODIFIED:20161208T121700Z
UID:42425-1485763200-1485795600@radioterapiaitalia.it
SUMMARY:2017 GENNAIO 30 Incontro farmaceutici
DESCRIPTION:Contenuto protetto.
URL:https://radioterapiaitalia.it/event/2017-gennaio-30-incotnro-farmaceutici-2/
CATEGORIES:Eventi societari
END:VEVENT
BEGIN:VEVENT
DTSTART;TZID=Europe/Rome:20170213T080000
DTEND;TZID=Europe/Rome:20170213T170000
DTSTAMP:20260425T154922
CREATED:20161208T123642Z
LAST-MODIFIED:20161208T123642Z
UID:42426-1486972800-1487005200@radioterapiaitalia.it
SUMMARY:2017 Febbraio 13 CD Incontro con Gruppi regionali e gruppi di studio al Cardello
DESCRIPTION:Proposte congresso \nComunicazioni
URL:https://radioterapiaitalia.it/event/2017-febbraio-13-cd-gruppi-regionali-gruppi-studio-al-cardello-2/
CATEGORIES:Eventi societari
END:VEVENT
BEGIN:VEVENT
DTSTART;TZID=Europe/Rome:20170213T080000
DTEND;TZID=Europe/Rome:20170213T170000
DTSTAMP:20260425T154922
CREATED:20161208T123642Z
LAST-MODIFIED:20161208T123642Z
UID:7216-1486972800-1487005200@radioterapiaitalia.it
SUMMARY:2017 Febbraio 13 CD Incontro con Gruppi regionali e gruppi di studio al Cardello
DESCRIPTION:Proposte congresso \nComunicazioni
URL:https://radioterapiaitalia.it/event/2017-febbraio-13-cd-gruppi-regionali-gruppi-studio-al-cardello/
CATEGORIES:Eventi societari
END:VEVENT
BEGIN:VEVENT
DTSTART;TZID=Europe/Rome:20170313T080000
DTEND;TZID=Europe/Rome:20170313T170000
DTSTAMP:20260425T154922
CREATED:20161128T220805Z
LAST-MODIFIED:20161128T220805Z
UID:6984-1489392000-1489424400@radioterapiaitalia.it
SUMMARY:2017 Marzo 13 CD nazionale
DESCRIPTION:
URL:https://radioterapiaitalia.it/event/2017-marzo-13-cd-nazionale/
CATEGORIES:Eventi societari
END:VEVENT
BEGIN:VEVENT
DTSTART;TZID=Europe/Rome:20170313T080000
DTEND;TZID=Europe/Rome:20170313T170000
DTSTAMP:20260425T154922
CREATED:20161128T220805Z
LAST-MODIFIED:20161128T220805Z
UID:42405-1489392000-1489424400@radioterapiaitalia.it
SUMMARY:2017 Marzo 13 CD nazionale
DESCRIPTION:
URL:https://radioterapiaitalia.it/event/2017-marzo-13-cd-nazionale-2/
CATEGORIES:Eventi societari
END:VEVENT
BEGIN:VEVENT
DTSTART;TZID=Europe/Rome:20170324T093000
DTEND;TZID=Europe/Rome:20170324T170000
DTSTAMP:20260425T154922
CREATED:20170315T214052Z
LAST-MODIFIED:20170315T214052Z
UID:10205-1490347800-1490374800@radioterapiaitalia.it
SUMMARY:2017 Marzo 24 RADIOTERAPIA AMICA MIA - AREZZO
DESCRIPTION:radioterapia amica mia.
URL:https://radioterapiaitalia.it/event/2017-marzo-24-radioterapia-amica-mia-arezzo/
CATEGORIES:Eventi societari
ATTACH;FMTTYPE=:
END:VEVENT
BEGIN:VEVENT
DTSTART;TZID=Europe/Rome:20170324T093000
DTEND;TZID=Europe/Rome:20170324T170000
DTSTAMP:20260425T154922
CREATED:20170315T214052Z
LAST-MODIFIED:20170315T214052Z
UID:42468-1490347800-1490374800@radioterapiaitalia.it
SUMMARY:2017 Marzo 24 RADIOTERAPIA AMICA MIA - AREZZO
DESCRIPTION:radioterapia amica mia.
URL:https://radioterapiaitalia.it/event/2017-marzo-24-radioterapia-amica-mia-arezzo-2/
CATEGORIES:Eventi societari
ATTACH;FMTTYPE=:
END:VEVENT
BEGIN:VEVENT
DTSTART;TZID=Europe/Rome:20170406T080000
DTEND;TZID=Europe/Rome:20170406T170000
DTSTAMP:20260425T154922
CREATED:20170406T203335Z
LAST-MODIFIED:20170406T203335Z
UID:42478-1491465600-1491498000@radioterapiaitalia.it
SUMMARY:Si è Spenta la collega INES CAFARO - Una vita vissuta per l’ospedale e la Radioterapia. LA VOGLIAMO RICORDARE COSI'
DESCRIPTION:L’AIRO è vicina alla famiglia ed ai colleghi di Cremona. \n  \n\n 
URL:https://radioterapiaitalia.it/event/si-spenta-la-collega-ines-cafaro-2/
CATEGORIES:Eventi societari
ATTACH;FMTTYPE=:
END:VEVENT
BEGIN:VEVENT
DTSTART;TZID=Europe/Rome:20170406T080000
DTEND;TZID=Europe/Rome:20170406T170000
DTSTAMP:20260425T154922
CREATED:20170406T203335Z
LAST-MODIFIED:20170406T203335Z
UID:10786-1491465600-1491498000@radioterapiaitalia.it
SUMMARY:Si è Spenta la collega INES CAFARO - Una vita vissuta per l’ospedale e la Radioterapia. LA VOGLIAMO RICORDARE COSI'
DESCRIPTION:L’AIRO è vicina alla famiglia ed ai colleghi di Cremona. \n  \n\n 
URL:https://radioterapiaitalia.it/event/si-spenta-la-collega-ines-cafaro/
CATEGORIES:Eventi societari
ATTACH;FMTTYPE=:
END:VEVENT
BEGIN:VEVENT
DTSTART;TZID=Europe/Rome:20170410T110000
DTEND;TZID=Europe/Rome:20170410T170000
DTSTAMP:20260425T154922
CREATED:20161128T221426Z
LAST-MODIFIED:20161128T221426Z
UID:6988-1491822000-1491843600@radioterapiaitalia.it
SUMMARY:2017 Aprile 10 CD nazionale
DESCRIPTION:
URL:https://radioterapiaitalia.it/event/2017-aprile-10-cd-nazionale/
CATEGORIES:Eventi societari
END:VEVENT
BEGIN:VEVENT
DTSTART;TZID=Europe/Rome:20170410T110000
DTEND;TZID=Europe/Rome:20170410T170000
DTSTAMP:20260425T154922
CREATED:20161128T221426Z
LAST-MODIFIED:20161128T221426Z
UID:42406-1491822000-1491843600@radioterapiaitalia.it
SUMMARY:2017 Aprile 10 CD nazionale
DESCRIPTION:
URL:https://radioterapiaitalia.it/event/2017-aprile-10-cd-nazionale-2/
CATEGORIES:Eventi societari
END:VEVENT
BEGIN:VEVENT
DTSTART;TZID=Europe/Rome:20170612T100000
DTEND;TZID=Europe/Rome:20170612T170000
DTSTAMP:20260425T154922
CREATED:20170612T104205Z
LAST-MODIFIED:20170612T104205Z
UID:42493-1497261600-1497286800@radioterapiaitalia.it
SUMMARY:AGENAS PER RETI ONCOLOGICHE
DESCRIPTION:DOTT. RUSSI\, PROF. MAGRINI E PROF PERGOLIZZI. \nMetodologia reti oncologiche
URL:https://radioterapiaitalia.it/event/agenas-reti-oncologiche-2/
CATEGORIES:Eventi societari
ATTACH;FMTTYPE=:
END:VEVENT
BEGIN:VEVENT
DTSTART;TZID=Europe/Rome:20170612T100000
DTEND;TZID=Europe/Rome:20170612T170000
DTSTAMP:20260425T154922
CREATED:20170612T104205Z
LAST-MODIFIED:20170612T104205Z
UID:12680-1497261600-1497286800@radioterapiaitalia.it
SUMMARY:AGENAS PER RETI ONCOLOGICHE
DESCRIPTION:DOTT. RUSSI\, PROF. MAGRINI E PROF PERGOLIZZI. \nMetodologia reti oncologiche
URL:https://radioterapiaitalia.it/event/agenas-reti-oncologiche/
CATEGORIES:Eventi societari
ATTACH;FMTTYPE=:
END:VEVENT
END:VCALENDAR