BEGIN:VCALENDAR
VERSION:2.0
PRODID:-//AIRO - ECPv6.15.11//NONSGML v1.0//EN
CALSCALE:GREGORIAN
METHOD:PUBLISH
X-WR-CALNAME:AIRO
X-ORIGINAL-URL:https://radioterapiaitalia.it
X-WR-CALDESC:Eventi per AIRO
REFRESH-INTERVAL;VALUE=DURATION:PT1H
X-Robots-Tag:noindex
X-PUBLISHED-TTL:PT1H
BEGIN:VTIMEZONE
TZID:Europe/Rome
BEGIN:DAYLIGHT
TZOFFSETFROM:+0100
TZOFFSETTO:+0200
TZNAME:CEST
DTSTART:20150329T010000
END:DAYLIGHT
BEGIN:STANDARD
TZOFFSETFROM:+0200
TZOFFSETTO:+0100
TZNAME:CET
DTSTART:20151025T010000
END:STANDARD
BEGIN:DAYLIGHT
TZOFFSETFROM:+0100
TZOFFSETTO:+0200
TZNAME:CEST
DTSTART:20160327T010000
END:DAYLIGHT
BEGIN:STANDARD
TZOFFSETFROM:+0200
TZOFFSETTO:+0100
TZNAME:CET
DTSTART:20161030T010000
END:STANDARD
BEGIN:DAYLIGHT
TZOFFSETFROM:+0100
TZOFFSETTO:+0200
TZNAME:CEST
DTSTART:20170326T010000
END:DAYLIGHT
BEGIN:STANDARD
TZOFFSETFROM:+0200
TZOFFSETTO:+0100
TZNAME:CET
DTSTART:20171029T010000
END:STANDARD
END:VTIMEZONE
BEGIN:VEVENT
DTSTART;TZID=Europe/Rome:20160307T110000
DTEND;TZID=Europe/Rome:20160307T170000
DTSTAMP:20260426T041444
CREATED:20160302T143853Z
LAST-MODIFIED:20160302T143853Z
UID:600-1457348400-1457370000@radioterapiaitalia.it
SUMMARY:Riunione CD AIRO
DESCRIPTION:Sede AIRO – Via Farini 62 – ROMA\nORDINE DEL GIORNO\n11.00 Approvazione dell’odg\n11.05-11..30 Aggiornamento riunione con ditte farmaceutiche e tecnologiche\nRussi\, Magrini\, Corvò\n11.30-12.00 Congresso 2016: preventivo\, logistica (cena sociale inclusa)\nBagnara\n12.00-12.30 Congresso congiunto AIRO-AIRB-AIRO giovani: Proposta sessioni scientifiche\nCorvò\, Greto\n12.30-14.00 Discussione includendo\, oltre al programma\, anche definizione di: Comitato scientifico;Quota iscrizione;Affitto stand\nTutti\n14.00-14.30 Light Lunch\n14.30-15.00 Proposta Linee guida Prostata Santoni\n15.00-15.30 Regolamento gruppo regionale Emilia Romagna e Marche\nRussi\n15.30-16.15 Stato di avanzamento delle commissioni: Formazione e FAD (con discussione costi FAD ed\naccantonamento risorse)\nDispositivi medici e HTA De Sanctis\nFarmaci e AIFA Magrini\nAggiornamento legislativo Trippa\nAggiornamento informatico\, sito e news Pavanato\nLinee guida\, consensus\, position paper Alongi\nModelli organizzativi regionali\, e nazionali Russi\nRapporto con altri stakeholders Ravo\n16.15-16.30 Ratifica dei patrocini richiesti e comunicazioni del presidente\nRussi\n16.30-17.00 Varie ed eventuali\nIl Presidente               Il Segretario\nE. G Russi                     Rolando M. D’Angelillo
URL:https://radioterapiaitalia.it/event/riunione-cd-airo/
CATEGORIES:Eventi societari
END:VEVENT
BEGIN:VEVENT
DTSTART;TZID=Europe/Rome:20160307T110000
DTEND;TZID=Europe/Rome:20160307T170000
DTSTAMP:20260426T041444
CREATED:20160302T143853Z
LAST-MODIFIED:20160302T143853Z
UID:42314-1457348400-1457370000@radioterapiaitalia.it
SUMMARY:Riunione CD AIRO
DESCRIPTION:Sede AIRO – Via Farini 62 – ROMA\nORDINE DEL GIORNO\n11.00 Approvazione dell’odg\n11.05-11..30 Aggiornamento riunione con ditte farmaceutiche e tecnologiche\nRussi\, Magrini\, Corvò\n11.30-12.00 Congresso 2016: preventivo\, logistica (cena sociale inclusa)\nBagnara\n12.00-12.30 Congresso congiunto AIRO-AIRB-AIRO giovani: Proposta sessioni scientifiche\nCorvò\, Greto\n12.30-14.00 Discussione includendo\, oltre al programma\, anche definizione di: Comitato scientifico;Quota iscrizione;Affitto stand\nTutti\n14.00-14.30 Light Lunch\n14.30-15.00 Proposta Linee guida Prostata Santoni\n15.00-15.30 Regolamento gruppo regionale Emilia Romagna e Marche\nRussi\n15.30-16.15 Stato di avanzamento delle commissioni: Formazione e FAD (con discussione costi FAD ed\naccantonamento risorse)\nDispositivi medici e HTA De Sanctis\nFarmaci e AIFA Magrini\nAggiornamento legislativo Trippa\nAggiornamento informatico\, sito e news Pavanato\nLinee guida\, consensus\, position paper Alongi\nModelli organizzativi regionali\, e nazionali Russi\nRapporto con altri stakeholders Ravo\n16.15-16.30 Ratifica dei patrocini richiesti e comunicazioni del presidente\nRussi\n16.30-17.00 Varie ed eventuali\nIl Presidente               Il Segretario\nE. G Russi                     Rolando M. D’Angelillo
URL:https://radioterapiaitalia.it/event/riunione-cd-airo-2/
CATEGORIES:Eventi societari
END:VEVENT
END:VCALENDAR