BEGIN:VCALENDAR
VERSION:2.0
PRODID:-//AIRO - ECPv6.15.11//NONSGML v1.0//EN
CALSCALE:GREGORIAN
METHOD:PUBLISH
X-ORIGINAL-URL:https://radioterapiaitalia.it
X-WR-CALDESC:Eventi per AIRO
REFRESH-INTERVAL;VALUE=DURATION:PT1H
X-Robots-Tag:noindex
X-PUBLISHED-TTL:PT1H
BEGIN:VTIMEZONE
TZID:Europe/Rome
BEGIN:DAYLIGHT
TZOFFSETFROM:+0100
TZOFFSETTO:+0200
TZNAME:CEST
DTSTART:20180325T010000
END:DAYLIGHT
BEGIN:STANDARD
TZOFFSETFROM:+0200
TZOFFSETTO:+0100
TZNAME:CET
DTSTART:20181028T010000
END:STANDARD
BEGIN:DAYLIGHT
TZOFFSETFROM:+0100
TZOFFSETTO:+0200
TZNAME:CEST
DTSTART:20190331T010000
END:DAYLIGHT
BEGIN:STANDARD
TZOFFSETFROM:+0200
TZOFFSETTO:+0100
TZNAME:CET
DTSTART:20191027T010000
END:STANDARD
BEGIN:DAYLIGHT
TZOFFSETFROM:+0100
TZOFFSETTO:+0200
TZNAME:CEST
DTSTART:20200329T010000
END:DAYLIGHT
BEGIN:STANDARD
TZOFFSETFROM:+0200
TZOFFSETTO:+0100
TZNAME:CET
DTSTART:20201025T010000
END:STANDARD
END:VTIMEZONE
BEGIN:VEVENT
DTSTART;TZID=Europe/Rome:20190519T080000
DTEND;TZID=Europe/Rome:20190523T170000
DTSTAMP:20260425T003304
CREATED:20190311T120006Z
LAST-MODIFIED:20190311T120006Z
UID:17349-1558252800-1558630800@radioterapiaitalia.it
SUMMARY:Corso ESTRO "Multidisciplinary management of prostate cancer" 19-23 Maggio 2019
DESCRIPTION:Programma
URL:https://radioterapiaitalia.it/event/corso-estro-multidisciplinary-management-of-prostate-cancer-19-23-maggio-2019/
CATEGORIES:CORSI E CONGRESSI DI INTERESSE AIRO
ATTACH;FMTTYPE=:
END:VEVENT
BEGIN:VEVENT
DTSTART;TZID=Europe/Rome:20190519T080000
DTEND;TZID=Europe/Rome:20190523T170000
DTSTAMP:20260425T003304
CREATED:20190311T120006Z
LAST-MODIFIED:20190311T120006Z
UID:42583-1558252800-1558630800@radioterapiaitalia.it
SUMMARY:Corso ESTRO "Multidisciplinary management of prostate cancer" 19-23 Maggio 2019
DESCRIPTION:Programma
URL:https://radioterapiaitalia.it/event/corso-estro-multidisciplinary-management-of-prostate-cancer-19-23-maggio-2019-2/
CATEGORIES:CORSI E CONGRESSI DI INTERESSE AIRO
ATTACH;FMTTYPE=:
END:VEVENT
END:VCALENDAR